BEGIN:VCALENDAR
VERSION:2.0
PRODID:-//Bürgerstiftung Biblis - ECPv6.15.20//NONSGML v1.0//EN
CALSCALE:GREGORIAN
METHOD:PUBLISH
X-WR-CALNAME:Bürgerstiftung Biblis
X-ORIGINAL-URL:https://www.buergerstiftung-biblis.de
X-WR-CALDESC:Veranstaltungen für Bürgerstiftung Biblis
REFRESH-INTERVAL;VALUE=DURATION:PT1H
X-Robots-Tag:noindex
X-PUBLISHED-TTL:PT1H
BEGIN:VTIMEZONE
TZID:Europe/Berlin
BEGIN:DAYLIGHT
TZOFFSETFROM:+0100
TZOFFSETTO:+0200
TZNAME:CEST
DTSTART:20250330T010000
END:DAYLIGHT
BEGIN:STANDARD
TZOFFSETFROM:+0200
TZOFFSETTO:+0100
TZNAME:CET
DTSTART:20251026T010000
END:STANDARD
BEGIN:DAYLIGHT
TZOFFSETFROM:+0100
TZOFFSETTO:+0200
TZNAME:CEST
DTSTART:20260329T010000
END:DAYLIGHT
BEGIN:STANDARD
TZOFFSETFROM:+0200
TZOFFSETTO:+0100
TZNAME:CET
DTSTART:20261025T010000
END:STANDARD
BEGIN:DAYLIGHT
TZOFFSETFROM:+0100
TZOFFSETTO:+0200
TZNAME:CEST
DTSTART:20270328T010000
END:DAYLIGHT
BEGIN:STANDARD
TZOFFSETFROM:+0200
TZOFFSETTO:+0100
TZNAME:CET
DTSTART:20271031T010000
END:STANDARD
END:VTIMEZONE
BEGIN:VEVENT
DTSTART;TZID=Europe/Berlin:20260420T150000
DTEND;TZID=Europe/Berlin:20260420T150000
DTSTAMP:20260420T071520
CREATED:20260413T111212Z
LAST-MODIFIED:20260413T111224Z
UID:7708-1776697200-1776697200@www.buergerstiftung-biblis.de
SUMMARY:Der ältere Mensch im Straßenverkehr - Eine Veranstaltung für aktive Senioren
DESCRIPTION:Wie bewege ich mich sicher im Straßenverkehr?\nWas hat sich in den letzten Jahren verändert?\nUnd worauf sollte ich als Fußgänger\, Radfahrer oder Autofahrer besonders achten? \nDer ausgebildete Moderator und Polizeibeamte PHK Ralf Drexelius. kommt nach Biblis und gibt praxisnahe Tipps rund um das sichere Verhalten im Straßenverkehr. Mit seiner langjährigen Erfahrung geht er auf Fragen ein wie: \nWas kann ich selbst für meine Sicherheit tun?\nWelche Regeln sind neu oder besonders wichtig?\nWie sehen aktuelle Verkehrsbedingungen aus? \nIn dieser informativen und unterhaltsamen Veranstaltung werden bei Kaffee und Kuchen gemeinsam Antworten erarbeitet und alltagsnahe Lösungen besprochen.\nEingeladen sind alle Menschen ab 60 Jahren\, die aktiv am Straßenverkehr teilnehmen – zu Fuß\, mit dem Rad oder mit dem Auto.\nDas Team der Wohlfahrts-und Sozialarbeit des DRK OV Biblis und Polizeihauptkommissar Drexelius freuen sich auf Ihren Besuch.
URL:https://www.buergerstiftung-biblis.de/event/der-aeltere-mensch-im-strassenverkehr-eine-veranstaltung-fuer-aktive-senioren/
LOCATION:DRK Zentrum\, Kirchstr. 14\, Biblis\, 68647
END:VEVENT
BEGIN:VEVENT
DTSTART;TZID=Europe/Berlin:20260422T100000
DTEND;TZID=Europe/Berlin:20260422T113000
DTSTAMP:20260420T071520
CREATED:20260330T115305Z
LAST-MODIFIED:20260330T115316Z
UID:7659-1776852000-1776857400@www.buergerstiftung-biblis.de
SUMMARY:Bibfit für Kindergartenkinder – Kita Sonnenschein
DESCRIPTION:
URL:https://www.buergerstiftung-biblis.de/event/bibfit-fuer-kindergartenkinder-kita-sonnenschein-2/
LOCATION:Katholische öffentliche Bücherei\, Darmstädter Str. 4\, Biblis\, 68647
END:VEVENT
BEGIN:VEVENT
DTSTART;TZID=Europe/Berlin:20260422T150000
DTEND;TZID=Europe/Berlin:20260422T150000
DTSTAMP:20260420T071520
CREATED:20260413T111618Z
LAST-MODIFIED:20260413T111635Z
UID:7710-1776870000-1776870000@www.buergerstiftung-biblis.de
SUMMARY:Kostenlose Infoveranstaltung zur elektronischen Patientenakte (ePa)
DESCRIPTION:Seit Januar 2025 ist die elektronische Patientenakte (ePa) für gesetzlich Versicherte gestartet. Doch wie funktioniert sie eigentlich? Welche Vorteile bietet sie? Und wie nutzt man die App sicher und sinnvoll? \nDie psychosozialen Fachkräfte PauLa (NORIE) und die Wohlfahrts- und Sozialarbeit des DRK OV Biblis laden zu einer verständlichen Infoveranstaltung ein. \nZu Gast ist Theresa Kuper\, Digital‑Expertin der Digitalen Engel (BMBFSFJ‑Projekt)\, die die ePa erklärt und die App Schritt für Schritt vorstellt.
URL:https://www.buergerstiftung-biblis.de/event/kostenlose-infoveranstaltung-zur-elektronischen-patientenakte-epa/
LOCATION:DRK Zentrum\, Kirchstr. 14\, Biblis\, 68647
END:VEVENT
BEGIN:VEVENT
DTSTART;TZID=Europe/Berlin:20260423T170000
DTEND;TZID=Europe/Berlin:20260423T180000
DTSTAMP:20260420T071520
CREATED:20260330T115452Z
LAST-MODIFIED:20260330T115500Z
UID:7661-1776963600-1776967200@www.buergerstiftung-biblis.de
SUMMARY:Bibfit für Kindergartenkinder – Kita Sonnenschein
DESCRIPTION:mit Eltern
URL:https://www.buergerstiftung-biblis.de/event/bibfit-fuer-kindergartenkinder-kita-sonnenschein-3/
LOCATION:Katholische öffentliche Bücherei\, Darmstädter Str. 4\, Biblis\, 68647
END:VEVENT
BEGIN:VEVENT
DTSTART;TZID=Europe/Berlin:20260423T170000
DTEND;TZID=Europe/Berlin:20260423T183000
DTSTAMP:20260420T071520
CREATED:20260330T114303Z
LAST-MODIFIED:20260330T114409Z
UID:7653-1776963600-1776969000@www.buergerstiftung-biblis.de
SUMMARY:Welttag des Buches\, Ich schenk dir eine Geschichte
DESCRIPTION:Schnitzeljagd für Schulkinder in unseren Büchereiräumen
URL:https://www.buergerstiftung-biblis.de/event/welttag-des-buches-ich-schenk-dir-eine-geschichte/
LOCATION:Katholische öffentliche Bücherei\, Darmstädter Str. 4\, Biblis\, 68647
END:VEVENT
BEGIN:VEVENT
DTSTART;TZID=Europe/Berlin:20260425T200000
DTEND;TZID=Europe/Berlin:20260425T200000
DTSTAMP:20260420T071520
CREATED:20251124T092916Z
LAST-MODIFIED:20260412T140639Z
UID:7087-1777147200-1777147200@www.buergerstiftung-biblis.de
SUMMARY:Theatergruppe DIE DOLLBOHRER: "Modenschau im Ochsenstall"
DESCRIPTION:
URL:https://www.buergerstiftung-biblis.de/event/theatervorstellung-3/
LOCATION:Sporthalle Wattenheim\, Schulstr. 30\, Biblis - Wattenheim\, 68647
END:VEVENT
BEGIN:VEVENT
DTSTART;TZID=Europe/Berlin:20260425T110000
DTEND;TZID=Europe/Berlin:20260425T130000
DTSTAMP:20260420T071520
CREATED:20251117T123251Z
LAST-MODIFIED:20260413T112159Z
UID:6916-1777114800-1777122000@www.buergerstiftung-biblis.de
SUMMARY:Rollator-Training
DESCRIPTION:des DRK OV Biblis in Zusammenarbeit mit dem Sanitätshaus Active Life und der Deutschen Verkehrswacht am 25. April von 11:00 – 13:00 Uhr vor dem Sanitätshaus in der Darmstädter Str. 122 in Biblis. \n 
URL:https://www.buergerstiftung-biblis.de/event/rollator-training/
END:VEVENT
BEGIN:VEVENT
DTSTART;TZID=Europe/Berlin:20260425T190000
DTEND;TZID=Europe/Berlin:20260425T190000
DTSTAMP:20260420T071520
CREATED:20260219T133705Z
LAST-MODIFIED:20260219T133954Z
UID:7554-1777143600-1777143600@www.buergerstiftung-biblis.de
SUMMARY:DELTA ROCK Girls
DESCRIPTION:Bitte reservieren Sie Ihre Plätze im Festzelt! \nEintritt frei! Reservierung 06245 7284
URL:https://www.buergerstiftung-biblis.de/event/delta-rock-girls/
LOCATION:Gaststätte Bruchweiher\, Am Bruchweiher 1\, 68647 Biblis\, Tel 06245/7284
END:VEVENT
BEGIN:VEVENT
DTSTART;TZID=Europe/Berlin:20260426T103000
DTEND;TZID=Europe/Berlin:20260426T120000
DTSTAMP:20260420T071520
CREATED:20260330T114713Z
LAST-MODIFIED:20260330T114725Z
UID:7655-1777199400-1777204800@www.buergerstiftung-biblis.de
SUMMARY:Welttag des Buches\, Ich schenk dir eine Geschichte
DESCRIPTION:Schnitzeljagd für Schulkinder in unseren Büchereiräumen
URL:https://www.buergerstiftung-biblis.de/event/welttag-des-buches-ich-schenk-dir-eine-geschichte-2/
LOCATION:Katholische öffentliche Bücherei\, Darmstädter Str. 4\, Biblis\, 68647
END:VEVENT
BEGIN:VEVENT
DTSTART;TZID=Europe/Berlin:20260427T190000
DTEND;TZID=Europe/Berlin:20260427T203000
DTSTAMP:20260420T071520
CREATED:20251124T093137Z
LAST-MODIFIED:20260325T125004Z
UID:7089-1777316400-1777321800@www.buergerstiftung-biblis.de
SUMMARY:Vortrag VDK OV Nordheim-Wattenheim: Elektronische Gesundheitskarte
DESCRIPTION:Von der Neuen Apotheke Biblis referiert Frau Tanja Weih über die neue elektronische Gesundheitskarte. \nFolgende Fragen werden u.a. behandelt:\nVom Arzt zum Patienten – der Weg des E-Rezeptes\nVor- und Nachteile des E-Rezeptes\nDie e-Rezept-APP \n 
URL:https://www.buergerstiftung-biblis.de/event/vortrag-vdk/
LOCATION:Kultur- und Sporthalle Nordheim\, Wormser Str. 12\, Biblis-Nordheim\, 68647
END:VEVENT
BEGIN:VEVENT
DTSTART;TZID=Europe/Berlin:20260427T190000
DTEND;TZID=Europe/Berlin:20260427T203000
DTSTAMP:20260420T071520
CREATED:20260326T094228Z
LAST-MODIFIED:20260326T094245Z
UID:7637-1777316400-1777321800@www.buergerstiftung-biblis.de
SUMMARY:Vortrag VDK - OV Nordheim-Wattenheim: PAULA - Unsere psychosoziale Fachkraft auf dem Land\, stellt sich vor
DESCRIPTION:Unsere PAULA-Beraterin\, Frau Adler-Schäfer stellt sich vor und informiert über wichtige Themen für Menschen\, die auf Hilfe angewiesen sind\, aber noch keinen Pflegegrad haben. Der Vortrag ist auch für die Angehörigen von zu Pflegenden interessant.\nFragen wie:\n– Wie können diese Menschen möglichst lange zu Hause in ihrer normalen Umgebung betreut werden?\n– Wie kann ich mit ungenutztem Wohnraum meine Pflege ggf. mitfinanzieren? \nwerden behandelt.
URL:https://www.buergerstiftung-biblis.de/event/vortrag-vdk-ov-nordheim-wattenheim-paula-unsere-psychosoziale-fachkraft-auf-dem-land-stellt-sich-vor/
LOCATION:Kultur- und Sporthalle Nordheim\, Wormser Str. 12\, Biblis-Nordheim\, 68647
END:VEVENT
BEGIN:VEVENT
DTSTART;TZID=Europe/Berlin:20260427T190000
DTEND;TZID=Europe/Berlin:20260427T203000
DTSTAMP:20260420T071520
CREATED:20260326T095450Z
LAST-MODIFIED:20260326T095542Z
UID:7640-1777316400-1777321800@www.buergerstiftung-biblis.de
SUMMARY:VDK - OV Nordheim-Wattenheim: Alltagsunterstützende Assistenzsysteme für ein sicheres Leben zuhause
DESCRIPTION:Ergänzend zu dem vorangegangenen Vortrag „PAULA“ referiert Frau Annette Hoppe über technische Systeme für sicheres Leben zuhause wie einfachen Türzugang etc.
URL:https://www.buergerstiftung-biblis.de/event/vdk-ov-nordheim-wattenheim-alltagsunterstuetzende-assistenzsysteme-fuer-ein-sicheres-leben-zuhause-wann/
LOCATION:Kultur- und Sporthalle Nordheim\, Wormser Str. 12\, Biblis-Nordheim\, 68647
END:VEVENT
BEGIN:VEVENT
DTSTART;TZID=Europe/Berlin:20260429T140000
DTEND;TZID=Europe/Berlin:20260429T140000
DTSTAMP:20260420T071520
CREATED:20260120T134044Z
LAST-MODIFIED:20260120T134052Z
UID:7396-1777471200-1777471200@www.buergerstiftung-biblis.de
SUMMARY:Seniorentreff
DESCRIPTION:Anmeldung erwünscht: Tel. 7062 (Erika Ritter)
URL:https://www.buergerstiftung-biblis.de/event/seniorentreff/
LOCATION:Bürgerzentrum Biblis\, Darmstädter Str. 2\, Biblis\, Hessen\, 68647\, Deutschland
ORGANIZER;CN="Seniorentreff Biblis":MAILTO:ritter.erika@mail.de
END:VEVENT
BEGIN:VEVENT
DTSTART;TZID=Europe/Berlin:20260430T190000
DTEND;TZID=Europe/Berlin:20260430T190000
DTSTAMP:20260420T071520
CREATED:20260219T134334Z
LAST-MODIFIED:20260219T134344Z
UID:7556-1777575600-1777575600@www.buergerstiftung-biblis.de
SUMMARY:Dry Aged Finest Rock
DESCRIPTION:Classic Rock mit einer feurigen Note \nEintritt frei! Tisch-Reservierung im Festzelt sind möglich\, unter 06245 7284.
URL:https://www.buergerstiftung-biblis.de/event/dry-aged-finest-rock/
LOCATION:Gaststätte Bruchweiher\, Am Bruchweiher 1\, 68647 Biblis\, Tel 06245/7284
END:VEVENT
END:VCALENDAR