BEGIN:VCALENDAR
VERSION:2.0
PRODID:-//Bürgerstiftung Biblis - ECPv6.15.20//NONSGML v1.0//EN
CALSCALE:GREGORIAN
METHOD:PUBLISH
X-ORIGINAL-URL:https://www.buergerstiftung-biblis.de
X-WR-CALDESC:Veranstaltungen für Bürgerstiftung Biblis
REFRESH-INTERVAL;VALUE=DURATION:PT1H
X-Robots-Tag:noindex
X-PUBLISHED-TTL:PT1H
BEGIN:VTIMEZONE
TZID:Europe/Berlin
BEGIN:DAYLIGHT
TZOFFSETFROM:+0100
TZOFFSETTO:+0200
TZNAME:CEST
DTSTART:20250330T010000
END:DAYLIGHT
BEGIN:STANDARD
TZOFFSETFROM:+0200
TZOFFSETTO:+0100
TZNAME:CET
DTSTART:20251026T010000
END:STANDARD
BEGIN:DAYLIGHT
TZOFFSETFROM:+0100
TZOFFSETTO:+0200
TZNAME:CEST
DTSTART:20260329T010000
END:DAYLIGHT
BEGIN:STANDARD
TZOFFSETFROM:+0200
TZOFFSETTO:+0100
TZNAME:CET
DTSTART:20261025T010000
END:STANDARD
BEGIN:DAYLIGHT
TZOFFSETFROM:+0100
TZOFFSETTO:+0200
TZNAME:CEST
DTSTART:20270328T010000
END:DAYLIGHT
BEGIN:STANDARD
TZOFFSETFROM:+0200
TZOFFSETTO:+0100
TZNAME:CET
DTSTART:20271031T010000
END:STANDARD
END:VTIMEZONE
BEGIN:VEVENT
DTSTART;TZID=Europe/Berlin:20261202T140000
DTEND;TZID=Europe/Berlin:20261202T170000
DTSTAMP:20260422T195504
CREATED:20251117T133800Z
LAST-MODIFIED:20251117T133810Z
UID:6968-1796220000-1796230800@www.buergerstiftung-biblis.de
SUMMARY:Secondhand-Modestübchen\, nachhaltig gut angezogen
DESCRIPTION:Terminreservierung über 01778679796
URL:https://www.buergerstiftung-biblis.de/event/secondhand-modestuebchen-nachhaltig-gut-angezogen-11/
LOCATION:DRK Zentrum\, Kirchstr. 14\, Biblis\, 68647
END:VEVENT
BEGIN:VEVENT
DTSTART;TZID=Europe/Berlin:20261204T150000
DTEND;TZID=Europe/Berlin:20261204T150000
DTSTAMP:20260422T195504
CREATED:20260206T155843Z
LAST-MODIFIED:20260206T155859Z
UID:7473-1796396400-1796396400@www.buergerstiftung-biblis.de
SUMMARY:Stammtisch Vogel- und Naturschutzverein
DESCRIPTION:
URL:https://www.buergerstiftung-biblis.de/event/stammtisch-vogel-und-naturschutzverein-8/
LOCATION:Vereinsgelände
END:VEVENT
BEGIN:VEVENT
DTSTART;TZID=Europe/Berlin:20261205T160000
DTEND;TZID=Europe/Berlin:20261205T180000
DTSTAMP:20260422T195504
CREATED:20250904T140505Z
LAST-MODIFIED:20250904T140529Z
UID:6709-1796486400-1796493600@www.buergerstiftung-biblis.de
SUMMARY:Nikolausturnen
DESCRIPTION:
URL:https://www.buergerstiftung-biblis.de/event/nikolausturnen/
LOCATION:Pfaffenauhalle\, Josef-Seib-Str. 10\, Biblis\, 68647
END:VEVENT
BEGIN:VEVENT
DTSTART;TZID=Europe/Berlin:20261205T190000
DTEND;TZID=Europe/Berlin:20261205T190000
DTSTAMP:20260422T195504
CREATED:20260413T113948Z
LAST-MODIFIED:20260413T113958Z
UID:7716-1796497200-1796497200@www.buergerstiftung-biblis.de
SUMMARY:Adventskonzert von "Blech Pur"
DESCRIPTION:
URL:https://www.buergerstiftung-biblis.de/event/adventskonzert-von-blech-pur/
LOCATION:Evangelische Kirche Biblis\, Darmstädter Str. 76\, Biblis\, 68647
END:VEVENT
BEGIN:VEVENT
DTSTART;VALUE=DATE:20261206
DTEND;VALUE=DATE:20261207
DTSTAMP:20260422T195504
CREATED:20251127T130801Z
LAST-MODIFIED:20251127T130815Z
UID:7141-1796515200-1796601599@www.buergerstiftung-biblis.de
SUMMARY:Weihnachtsmarkt Nordheim
DESCRIPTION:
URL:https://www.buergerstiftung-biblis.de/event/weihnachtsmarkt-nordheim/
LOCATION:Rathausplatz
END:VEVENT
BEGIN:VEVENT
DTSTART;TZID=Europe/Berlin:20261209T140000
DTEND;TZID=Europe/Berlin:20261209T160000
DTSTAMP:20260422T195504
CREATED:20251117T151350Z
LAST-MODIFIED:20251117T151359Z
UID:6992-1796824800-1796832000@www.buergerstiftung-biblis.de
SUMMARY:FadenFreunde
DESCRIPTION:in geselliger Runde zusammen erzählen\, stricken\, häkeln: eigene Handarbeitssachen können mitgebracht werden.
URL:https://www.buergerstiftung-biblis.de/event/fadenfreunde-10/
LOCATION:DRK Zentrum\, Kirchstr. 14\, Biblis\, 68647
END:VEVENT
BEGIN:VEVENT
DTSTART;TZID=Europe/Berlin:20261209T190000
DTEND;TZID=Europe/Berlin:20261209T190000
DTSTAMP:20260422T195504
CREATED:20251118T132705Z
LAST-MODIFIED:20260413T113306Z
UID:7038-1796842800-1796842800@www.buergerstiftung-biblis.de
SUMMARY:Treffen der Technik-und Logistikgruppe
DESCRIPTION:
URL:https://www.buergerstiftung-biblis.de/event/treffen-der-technik-und-logistikgruppe-12/
LOCATION:DRK Zentrum\, Kirchstr. 14\, Biblis\, 68647
END:VEVENT
BEGIN:VEVENT
DTSTART;VALUE=DATE:20261211
DTEND;VALUE=DATE:20261212
DTSTAMP:20260422T195504
CREATED:20260123T125653Z
LAST-MODIFIED:20260123T125703Z
UID:7434-1796947200-1797033599@www.buergerstiftung-biblis.de
SUMMARY:"Jahresausklang in der Gruppe mit einer Weihnachtsfeier"
DESCRIPTION:Zeit für einen Rückblick. Ort/Uhrzeit werden über das Gruppentreffen bekannt gegeben. \nDie Veranstaltung ist nur für Mitglieder
URL:https://www.buergerstiftung-biblis.de/event/jahresausklang-in-der-gruppe-mit-einer-weihnachtsfeier/
ORGANIZER;CN="Lily's aus'm Ried":MAILTO:anmeldung@shg-lilys-ausm-ried.de
END:VEVENT
BEGIN:VEVENT
DTSTART;VALUE=DATE:20261212
DTEND;VALUE=DATE:20261213
DTSTAMP:20260422T195504
CREATED:20251127T131026Z
LAST-MODIFIED:20251127T131035Z
UID:7143-1797033600-1797119999@www.buergerstiftung-biblis.de
SUMMARY:Weihnachtsmarkt Wattenheim
DESCRIPTION:
URL:https://www.buergerstiftung-biblis.de/event/weihnachtsmarkt-wattenheim/
LOCATION:Wattenheim\, Biblis - Wattenheim
END:VEVENT
BEGIN:VEVENT
DTSTART;VALUE=DATE:20261212
DTEND;VALUE=DATE:20261213
DTSTAMP:20260422T195504
CREATED:20251127T131139Z
LAST-MODIFIED:20251127T131148Z
UID:7145-1797033600-1797119999@www.buergerstiftung-biblis.de
SUMMARY:Weihnachtsfeier VDK
DESCRIPTION:
URL:https://www.buergerstiftung-biblis.de/event/weihnachtsfeier-vdk/
LOCATION:Kultur- und Sporthalle Nordheim\, Wormser Str. 12\, Biblis-Nordheim\, 68647
END:VEVENT
BEGIN:VEVENT
DTSTART;VALUE=DATE:20261213
DTEND;VALUE=DATE:20261214
DTSTAMP:20260422T195504
CREATED:20251127T131304Z
LAST-MODIFIED:20251127T131319Z
UID:7147-1797120000-1797206399@www.buergerstiftung-biblis.de
SUMMARY:Singen zum Advent
DESCRIPTION:
URL:https://www.buergerstiftung-biblis.de/event/singen-zum-advent/
LOCATION:Kirche Nordheim
END:VEVENT
BEGIN:VEVENT
DTSTART;TZID=Europe/Berlin:20261213T190000
DTEND;TZID=Europe/Berlin:20261213T190000
DTSTAMP:20260422T195504
CREATED:20260317T124900Z
LAST-MODIFIED:20260317T124923Z
UID:7622-1797188400-1797188400@www.buergerstiftung-biblis.de
SUMMARY:44. Weihnachtskonzert des MGV-Liederkranz 1920 Biblis
DESCRIPTION:Bei Rückfragen Tel. 0178 1403576
URL:https://www.buergerstiftung-biblis.de/event/44-weihnachtskonzert-des-mgv-liederkranz-1920-biblis/
LOCATION:St. Bartholomäus\, Darmstädter Str. 4\, Biblis\, 68647
END:VEVENT
BEGIN:VEVENT
DTSTART;TZID=Europe/Berlin:20261214T140000
DTEND;TZID=Europe/Berlin:20261214T160000
DTSTAMP:20260422T195504
CREATED:20251117T131211Z
LAST-MODIFIED:20251117T131219Z
UID:6946-1797256800-1797264000@www.buergerstiftung-biblis.de
SUMMARY:Spielenachmittag für Senioren
DESCRIPTION:
URL:https://www.buergerstiftung-biblis.de/event/spielenachmittag-fuer-senioren-11/
LOCATION:DRK Zentrum\, Kirchstr. 14\, Biblis\, 68647
END:VEVENT
BEGIN:VEVENT
DTSTART;TZID=Europe/Berlin:20261216T190000
DTEND;TZID=Europe/Berlin:20261216T190000
DTSTAMP:20260422T195504
CREATED:20251118T130043Z
LAST-MODIFIED:20251118T130052Z
UID:7014-1797447600-1797447600@www.buergerstiftung-biblis.de
SUMMARY:Treffen der Wohlfahrts- und Sozialarbeit
DESCRIPTION:
URL:https://www.buergerstiftung-biblis.de/event/treffen-der-wohlfahrts-und-sozialarbeit-11/
LOCATION:DRK Zentrum\, Kirchstr. 14\, Biblis\, 68647
END:VEVENT
BEGIN:VEVENT
DTSTART;TZID=Europe/Berlin:20261219T100000
DTEND;TZID=Europe/Berlin:20261219T100000
DTSTAMP:20260422T195504
CREATED:20260413T114152Z
LAST-MODIFIED:20260413T114204Z
UID:7718-1797674400-1797674400@www.buergerstiftung-biblis.de
SUMMARY:Probe Krippenspiel in der Ev. Kirche Biblis
DESCRIPTION:
URL:https://www.buergerstiftung-biblis.de/event/probe-krippenspiel-in-der-ev-kirche-biblis/
LOCATION:Evangelische Kirche Biblis\, Darmstädter Str. 76\, Biblis\, 68647
END:VEVENT
BEGIN:VEVENT
DTSTART;VALUE=DATE:20261220
DTEND;VALUE=DATE:20261221
DTSTAMP:20260422T195504
CREATED:20251127T131638Z
LAST-MODIFIED:20251127T131721Z
UID:7151-1797724800-1797811199@www.buergerstiftung-biblis.de
SUMMARY:Krippenspiel
DESCRIPTION:
URL:https://www.buergerstiftung-biblis.de/event/krippenspiel/
LOCATION:Kirche Nordheim
END:VEVENT
BEGIN:VEVENT
DTSTART;VALUE=DATE:20261220
DTEND;VALUE=DATE:20261221
DTSTAMP:20260422T195504
CREATED:20251127T131439Z
LAST-MODIFIED:20251127T131452Z
UID:7149-1797724800-1797811199@www.buergerstiftung-biblis.de
SUMMARY:Fährhausturm geöffnet
DESCRIPTION:
URL:https://www.buergerstiftung-biblis.de/event/faehrhausturm-geoeffnet-4/
LOCATION:Nordheimer Fährhausturm\, Biblis-Nordheim\, 68647
END:VEVENT
BEGIN:VEVENT
DTSTART;TZID=Europe/Berlin:20261224T150000
DTEND;TZID=Europe/Berlin:20261224T150000
DTSTAMP:20260422T195504
CREATED:20260413T114347Z
LAST-MODIFIED:20260413T114356Z
UID:7720-1798124400-1798124400@www.buergerstiftung-biblis.de
SUMMARY:Familiengottesdienst mit Krippenspiel in der Ev. Kirche Biblis
DESCRIPTION:
URL:https://www.buergerstiftung-biblis.de/event/familiengottesdienst-mit-krippenspiel-in-der-ev-kirche-biblis/
LOCATION:Evangelische Kirche Biblis\, Darmstädter Str. 76\, Biblis\, 68647
END:VEVENT
BEGIN:VEVENT
DTSTART;TZID=Europe/Berlin:20261231T110000
DTEND;TZID=Europe/Berlin:20261231T110000
DTSTAMP:20260422T195504
CREATED:20250904T143434Z
LAST-MODIFIED:20250904T143445Z
UID:6721-1798714800-1798714800@www.buergerstiftung-biblis.de
SUMMARY:Silvesterlauf
DESCRIPTION:
URL:https://www.buergerstiftung-biblis.de/event/silvesterlauf-2/
LOCATION:Jahnturnhalle\, Jahnstr. 8 - 10\, Biblis\, 68647
END:VEVENT
END:VCALENDAR