BEGIN:VCALENDAR
VERSION:2.0
PRODID:-//Bürgerstiftung Biblis - ECPv6.15.20//NONSGML v1.0//EN
CALSCALE:GREGORIAN
METHOD:PUBLISH
X-ORIGINAL-URL:https://www.buergerstiftung-biblis.de
X-WR-CALDESC:Veranstaltungen für Bürgerstiftung Biblis
REFRESH-INTERVAL;VALUE=DURATION:PT1H
X-Robots-Tag:noindex
X-PUBLISHED-TTL:PT1H
BEGIN:VTIMEZONE
TZID:Europe/Berlin
BEGIN:DAYLIGHT
TZOFFSETFROM:+0100
TZOFFSETTO:+0200
TZNAME:CEST
DTSTART:20250330T010000
END:DAYLIGHT
BEGIN:STANDARD
TZOFFSETFROM:+0200
TZOFFSETTO:+0100
TZNAME:CET
DTSTART:20251026T010000
END:STANDARD
BEGIN:DAYLIGHT
TZOFFSETFROM:+0100
TZOFFSETTO:+0200
TZNAME:CEST
DTSTART:20260329T010000
END:DAYLIGHT
BEGIN:STANDARD
TZOFFSETFROM:+0200
TZOFFSETTO:+0100
TZNAME:CET
DTSTART:20261025T010000
END:STANDARD
BEGIN:DAYLIGHT
TZOFFSETFROM:+0100
TZOFFSETTO:+0200
TZNAME:CEST
DTSTART:20270328T010000
END:DAYLIGHT
BEGIN:STANDARD
TZOFFSETFROM:+0200
TZOFFSETTO:+0100
TZNAME:CET
DTSTART:20271031T010000
END:STANDARD
END:VTIMEZONE
BEGIN:VEVENT
DTSTART;TZID=Europe/Berlin:20260902T140000
DTEND;TZID=Europe/Berlin:20260902T170000
DTSTAMP:20260422T145644
CREATED:20251117T133059Z
LAST-MODIFIED:20251117T133105Z
UID:6962-1788357600-1788368400@www.buergerstiftung-biblis.de
SUMMARY:Secondhand-Modestübchen\, nachhaltig gut angezogen
DESCRIPTION:Terminreservierung über 01778679796
URL:https://www.buergerstiftung-biblis.de/event/secondhand-modestuebchen-nachhaltig-gut-angezogen-8/
LOCATION:DRK Zentrum\, Kirchstr. 14\, Biblis\, 68647
END:VEVENT
BEGIN:VEVENT
DTSTART;TZID=Europe/Berlin:20260904T150000
DTEND;TZID=Europe/Berlin:20260904T150000
DTSTAMP:20260422T145644
CREATED:20260206T154857Z
LAST-MODIFIED:20260206T154918Z
UID:7465-1788534000-1788534000@www.buergerstiftung-biblis.de
SUMMARY:Stammtisch Vogel- und Naturschutzverein
DESCRIPTION:
URL:https://www.buergerstiftung-biblis.de/event/stammtisch-vogel-und-naturschutzverein-5/
LOCATION:Vereinsgelände
END:VEVENT
BEGIN:VEVENT
DTSTART;VALUE=DATE:20260906
DTEND;VALUE=DATE:20260907
DTSTAMP:20260422T145644
CREATED:20260119T120210Z
LAST-MODIFIED:20260119T120226Z
UID:7381-1788652800-1788739199@www.buergerstiftung-biblis.de
SUMMARY:Hofflohmarkt Nordheim-Wattenheim-Biblis
DESCRIPTION:näheres folgt
URL:https://www.buergerstiftung-biblis.de/event/hofflohmarkt-nordheim-wattenheim-biblis/
END:VEVENT
BEGIN:VEVENT
DTSTART;TZID=Europe/Berlin:20260909T140000
DTEND;TZID=Europe/Berlin:20260909T160000
DTSTAMP:20260422T145644
CREATED:20251117T141022Z
LAST-MODIFIED:20251117T141034Z
UID:6985-1788962400-1788969600@www.buergerstiftung-biblis.de
SUMMARY:FadenFreunde
DESCRIPTION:in geselliger Runde zusammen erzählen\, stricken\, häkeln: Eigene Handarbeitssachen können mitgebracht werden.
URL:https://www.buergerstiftung-biblis.de/event/fadenfreunde-7/
END:VEVENT
BEGIN:VEVENT
DTSTART;TZID=Europe/Berlin:20260909T190000
DTEND;TZID=Europe/Berlin:20260909T190000
DTSTAMP:20260422T145644
CREATED:20251118T132126Z
LAST-MODIFIED:20260413T112843Z
UID:7032-1788980400-1788980400@www.buergerstiftung-biblis.de
SUMMARY:Treffen der Technik-und Logistikgruppe
DESCRIPTION:
URL:https://www.buergerstiftung-biblis.de/event/treffen-der-technik-und-logistikgruppe-9/
LOCATION:DRK Zentrum\, Kirchstr. 14\, Biblis\, 68647
END:VEVENT
BEGIN:VEVENT
DTSTART;TZID=Europe/Berlin:20260911T190000
DTEND;TZID=Europe/Berlin:20260911T210000
DTSTAMP:20260422T145644
CREATED:20260123T124710Z
LAST-MODIFIED:20260123T124722Z
UID:7428-1789153200-1789160400@www.buergerstiftung-biblis.de
SUMMARY:"Lipödem\, Wechseljahre\, Hormone"
DESCRIPTION:Zu Gast: Frauenärztin Katja Keller \nAlle Treffen finden von 19-21 Uhr im Bürgerzentrum im kleinen Raum statt. \nBei Interesse\, bitte unbedingt unter 0175 1981 540 oder anmeldung@shg-lilys-ausm-ried.de Ihr Kommen anmelden. \nDie Veranstaltung ist für Mitglieder und Nichtmitglieder – für Nichtmitglieder Unkostenbeitrag 5 € \n  \n 
URL:https://www.buergerstiftung-biblis.de/event/lipoedem-wechseljahre-hormone/
LOCATION:Bürgerzentrum Biblis\, Darmstädter Str. 2\, Biblis\, Hessen\, 68647\, Deutschland
ORGANIZER;CN="Lily's aus'm Ried":MAILTO:anmeldung@shg-lilys-ausm-ried.de
END:VEVENT
BEGIN:VEVENT
DTSTART;TZID=Europe/Berlin:20260912T100000
DTEND;TZID=Europe/Berlin:20260912T160000
DTSTAMP:20260422T145644
CREATED:20260210T142326Z
LAST-MODIFIED:20260218T091500Z
UID:7532-1789207200-1789228800@www.buergerstiftung-biblis.de
SUMMARY:4. Oldtimer-Treffen trifft auf Schlachtfest
DESCRIPTION:
URL:https://www.buergerstiftung-biblis.de/event/4-oldtimer-treffen-trifft-auf-schlachtfest/
LOCATION:Vereinsgelände Reitsportanlage Bibliser Pfaffenau\, Josef-Seib-Str. 16 - 18\, Biblis\, 68647
END:VEVENT
BEGIN:VEVENT
DTSTART;TZID=Europe/Berlin:20260912T190000
DTEND;TZID=Europe/Berlin:20260912T190000
DTSTAMP:20260422T145644
CREATED:20260301T075609Z
LAST-MODIFIED:20260301T075619Z
UID:7580-1789239600-1789239600@www.buergerstiftung-biblis.de
SUMMARY:Picknick unterm Sternenhimmel 2.0 - Das Brass Band OpenAir in Biblis
DESCRIPTION:Die Veranstaltung findet nur bei trockenem Wetter statt. \nBeginn voraussichtlich gegen 19 Uhr
URL:https://www.buergerstiftung-biblis.de/event/picknick-unterm-sternenhimmel-2-0-das-brass-band-openair-in-biblis/
LOCATION:Parkanlage am Hotel Lindenhof\, Lindenstr./Riedstr.\, Biblis
END:VEVENT
BEGIN:VEVENT
DTSTART;VALUE=DATE:20260913
DTEND;VALUE=DATE:20260914
DTSTAMP:20260422T145644
CREATED:20251127T124645Z
LAST-MODIFIED:20251127T124655Z
UID:7121-1789257600-1789343999@www.buergerstiftung-biblis.de
SUMMARY:Tag des offenen Denkmals
DESCRIPTION:
URL:https://www.buergerstiftung-biblis.de/event/tag-des-offenen-denkmals-2/
END:VEVENT
BEGIN:VEVENT
DTSTART;TZID=Europe/Berlin:20260914T140000
DTEND;TZID=Europe/Berlin:20260914T160000
DTSTAMP:20260422T145644
CREATED:20251117T130758Z
LAST-MODIFIED:20251117T130807Z
UID:6940-1789394400-1789401600@www.buergerstiftung-biblis.de
SUMMARY:Spielenachmittag für Senioren
DESCRIPTION:
URL:https://www.buergerstiftung-biblis.de/event/spielenachmittag-fuer-senioren-8/
LOCATION:DRK Zentrum\, Kirchstr. 14\, Biblis\, 68647
END:VEVENT
BEGIN:VEVENT
DTSTART;TZID=Europe/Berlin:20260914T190000
DTEND;TZID=Europe/Berlin:20260914T203000
DTSTAMP:20260422T145644
CREATED:20251127T124505Z
LAST-MODIFIED:20260325T124605Z
UID:7119-1789412400-1789417800@www.buergerstiftung-biblis.de
SUMMARY:Vortrag VDK OV Nordheim-Wattenheim: Schwerhörigkeit - Immer noch ein Tabu-Thema?
DESCRIPTION:Informationen und Tipps. \nHörakustik-Meister Joscha Grätz informiert ausführlich zum Thema Schwerhörigkeit.\nDer Vortrag behandelt die soziale Ausgrenzung und andere schwerwiegende Folgen einer nicht behandelten Schwerhörigkeit.\nWie lässt sich die Schwerhörigkeit im Anfangsstadium erkennen und was lässt sich dagegen tun?\nFührt Tinnitus auch zur Schwerhörigkeit?\nJoscha Grätz informiert umfassend zu dem Thema und steht auch für Fragen zur Verfügung.
URL:https://www.buergerstiftung-biblis.de/event/vortrag-vdk-2/
LOCATION:Kultur- und Sporthalle Nordheim\, Wormser Str. 12\, Biblis-Nordheim\, 68647
END:VEVENT
BEGIN:VEVENT
DTSTART;TZID=Europe/Berlin:20260916T190000
DTEND;TZID=Europe/Berlin:20260916T190000
DTSTAMP:20260422T145644
CREATED:20251118T125439Z
LAST-MODIFIED:20251118T125504Z
UID:7008-1789585200-1789585200@www.buergerstiftung-biblis.de
SUMMARY:Treffen der Wohlfahrts- und Sozialarbeit
DESCRIPTION:
URL:https://www.buergerstiftung-biblis.de/event/treffen-der-wohlfahrts-und-sozialarbeit-8/
LOCATION:DRK Zentrum\, Kirchstr. 14\, Biblis\, 68647
END:VEVENT
BEGIN:VEVENT
DTSTART;TZID=Europe/Berlin:20260916T200000
DTEND;TZID=Europe/Berlin:20260916T200000
DTSTAMP:20260422T145644
CREATED:20250915T133759Z
LAST-MODIFIED:20250915T133808Z
UID:6733-1789588800-1789588800@www.buergerstiftung-biblis.de
SUMMARY:Peter Kunz – Hesskalation
DESCRIPTION:VORVERKAUF: Karten sind im Vorverkauf zu 25\,- Euro (Abendkasse 27\,- Euro) bei Hollerbach Biblis\, Euronics Preuss in Bürstadt\, an der Kinokasse und auf www.filminsel-biblis.de/ticketshop erhältlich! \nEinlass ab 19:30 Uhr \n 
URL:https://www.buergerstiftung-biblis.de/event/peter-kunz-hesskalation/
LOCATION:Die Filminsel – kommunales Kino Biblis e.V.\, Hintergasse 3\, Biblis
END:VEVENT
BEGIN:VEVENT
DTSTART;VALUE=DATE:20260920
DTEND;VALUE=DATE:20260921
DTSTAMP:20260422T145644
CREATED:20251127T124820Z
LAST-MODIFIED:20251127T124827Z
UID:7123-1789862400-1789948799@www.buergerstiftung-biblis.de
SUMMARY:Fährhausturm geöffnet
DESCRIPTION:
URL:https://www.buergerstiftung-biblis.de/event/faehrhausturm-geoeffnet-3/
LOCATION:Nordheimer Fährhausturm\, Biblis-Nordheim\, 68647
END:VEVENT
BEGIN:VEVENT
DTSTART;TZID=Europe/Berlin:20260920T130000
DTEND;TZID=Europe/Berlin:20260920T180000
DTSTAMP:20260422T145644
CREATED:20260330T120143Z
LAST-MODIFIED:20260330T120153Z
UID:7667-1789909200-1789927200@www.buergerstiftung-biblis.de
SUMMARY:Herbstvielfalt
DESCRIPTION:Bücherflohmarkt beim Straßenfest in Biblis
URL:https://www.buergerstiftung-biblis.de/event/herbstvielfalt/
END:VEVENT
BEGIN:VEVENT
DTSTART;VALUE=DATE:20260925
DTEND;VALUE=DATE:20260929
DTSTAMP:20260422T145644
CREATED:20251127T125019Z
LAST-MODIFIED:20251127T125028Z
UID:7125-1790294400-1790639999@www.buergerstiftung-biblis.de
SUMMARY:Kerb
DESCRIPTION:
URL:https://www.buergerstiftung-biblis.de/event/kerb/
LOCATION:Rathausplatz
END:VEVENT
BEGIN:VEVENT
DTSTART;TZID=Europe/Berlin:20260930T140000
DTEND;TZID=Europe/Berlin:20260930T140000
DTSTAMP:20260422T145644
CREATED:20260120T135757Z
LAST-MODIFIED:20260120T135804Z
UID:7406-1790776800-1790776800@www.buergerstiftung-biblis.de
SUMMARY:Seniorentreff
DESCRIPTION:Anmeldung erwünscht: Tel. 7062 (Erika Ritter)
URL:https://www.buergerstiftung-biblis.de/event/seniorentreff-5/
LOCATION:Bürgerzentrum Biblis\, Darmstädter Str. 2\, Biblis\, Hessen\, 68647\, Deutschland
ORGANIZER;CN="Seniorentreff Biblis":MAILTO:ritter.erika@mail.de
END:VEVENT
END:VCALENDAR