BEGIN:VCALENDAR
VERSION:2.0
PRODID:-//Bürgerstiftung Biblis - ECPv6.15.20//NONSGML v1.0//EN
CALSCALE:GREGORIAN
METHOD:PUBLISH
X-ORIGINAL-URL:https://www.buergerstiftung-biblis.de
X-WR-CALDESC:Veranstaltungen für Bürgerstiftung Biblis
REFRESH-INTERVAL;VALUE=DURATION:PT1H
X-Robots-Tag:noindex
X-PUBLISHED-TTL:PT1H
BEGIN:VTIMEZONE
TZID:Europe/Berlin
BEGIN:DAYLIGHT
TZOFFSETFROM:+0100
TZOFFSETTO:+0200
TZNAME:CEST
DTSTART:20250330T010000
END:DAYLIGHT
BEGIN:STANDARD
TZOFFSETFROM:+0200
TZOFFSETTO:+0100
TZNAME:CET
DTSTART:20251026T010000
END:STANDARD
BEGIN:DAYLIGHT
TZOFFSETFROM:+0100
TZOFFSETTO:+0200
TZNAME:CEST
DTSTART:20260329T010000
END:DAYLIGHT
BEGIN:STANDARD
TZOFFSETFROM:+0200
TZOFFSETTO:+0100
TZNAME:CET
DTSTART:20261025T010000
END:STANDARD
BEGIN:DAYLIGHT
TZOFFSETFROM:+0100
TZOFFSETTO:+0200
TZNAME:CEST
DTSTART:20270328T010000
END:DAYLIGHT
BEGIN:STANDARD
TZOFFSETFROM:+0200
TZOFFSETTO:+0100
TZNAME:CET
DTSTART:20271031T010000
END:STANDARD
END:VTIMEZONE
BEGIN:VEVENT
DTSTART;TZID=Europe/Berlin:20260701T190000
DTEND;TZID=Europe/Berlin:20260701T190000
DTSTAMP:20260422T120636
CREATED:20260221T142819Z
LAST-MODIFIED:20260221T142829Z
UID:7558-1782932400-1782932400@www.buergerstiftung-biblis.de
SUMMARY:HERMANN & DIE SUPERHELDEN - Benefizkonzert zu Gunsten der Tafel Ried.
DESCRIPTION:Reden wie man denkt – schreiben und singen wie man redet. \nAusgezeichnet mit Darmstädter „Spirwes Preis für Maulkunst und Lebensart“  \nEintritt frei\, Spenden für die Tafel erwünscht. \nReservierung unter 06245 7284.
URL:https://www.buergerstiftung-biblis.de/event/hermann-die-superhelden-benefizkonzert-zu-gunsten-der-tafel-ried/
LOCATION:Gaststätte Bruchweiher\, Am Bruchweiher 1\, 68647 Biblis\, Tel 06245/7284
END:VEVENT
BEGIN:VEVENT
DTSTART;TZID=Europe/Berlin:20260708T190000
DTEND;TZID=Europe/Berlin:20260708T190000
DTSTAMP:20260422T120636
CREATED:20251118T131616Z
LAST-MODIFIED:20260413T112630Z
UID:7028-1783537200-1783537200@www.buergerstiftung-biblis.de
SUMMARY:Treffen der Technik-und Logistikgruppe
DESCRIPTION:
URL:https://www.buergerstiftung-biblis.de/event/treffen-der-technik-und-logistikgruppe-7/
LOCATION:DRK Zentrum\, Kirchstr. 14\, Biblis\, 68647
END:VEVENT
BEGIN:VEVENT
DTSTART;TZID=Europe/Berlin:20260710T190000
DTEND;TZID=Europe/Berlin:20260710T210000
DTSTAMP:20260422T120636
CREATED:20260123T124028Z
LAST-MODIFIED:20260123T124037Z
UID:7424-1783710000-1783717200@www.buergerstiftung-biblis.de
SUMMARY:"antientzündliche Ernährung mit Lipödem"
DESCRIPTION:Zu Gast: Frau Diplom-Oecotrophologin Ulrike Bornhofen \nAlle Treffen finden von 19-21 Uhr im Bürgerzentrum im kleinen Raum statt. \nBei Interesse\, bitte unbedingt unter 0175 1981 540 oder anmeldung@shg-lilys-ausm-ried.de Ihr Kommen anmelden. \nDie Veranstaltung ist für Mitglieder und Nichtmitglieder – für Nichtmitglieder Unkostenbeitrag 5 € \n 
URL:https://www.buergerstiftung-biblis.de/event/antientzuendliche-ernaehrung-mit-lipoedem/
LOCATION:Bürgerzentrum Biblis\, Darmstädter Str. 2\, Biblis\, Hessen\, 68647\, Deutschland
ORGANIZER;CN="Lily's aus'm Ried":MAILTO:anmeldung@shg-lilys-ausm-ried.de
END:VEVENT
BEGIN:VEVENT
DTSTART;TZID=Europe/Berlin:20260716T130000
DTEND;TZID=Europe/Berlin:20260716T150000
DTSTAMP:20260422T120636
CREATED:20260330T115937Z
LAST-MODIFIED:20260330T115945Z
UID:7665-1784206800-1784214000@www.buergerstiftung-biblis.de
SUMMARY:Ferienspiele der Gemeinde Biblis
DESCRIPTION:
URL:https://www.buergerstiftung-biblis.de/event/ferienspiele-der-gemeinde-biblis/
LOCATION:Katholische öffentliche Bücherei\, Darmstädter Str. 4\, Biblis\, 68647
END:VEVENT
BEGIN:VEVENT
DTSTART;VALUE=DATE:20260718
DTEND;VALUE=DATE:20260719
DTSTAMP:20260422T120636
CREATED:20251125T142105Z
LAST-MODIFIED:20251125T142115Z
UID:7109-1784332800-1784419199@www.buergerstiftung-biblis.de
SUMMARY:Altpapiersammlung
DESCRIPTION:Nordheim/Wattenheim
URL:https://www.buergerstiftung-biblis.de/event/altpapiersammlung-2/
END:VEVENT
BEGIN:VEVENT
DTSTART;TZID=Europe/Berlin:20260729T140000
DTEND;TZID=Europe/Berlin:20260729T140000
DTSTAMP:20260422T120636
CREATED:20260120T135330Z
LAST-MODIFIED:20260120T135338Z
UID:7402-1785333600-1785333600@www.buergerstiftung-biblis.de
SUMMARY:Seniorentreff
DESCRIPTION:Anmeldung erwünscht: Tel. 7062 (Erika Ritter)
URL:https://www.buergerstiftung-biblis.de/event/seniorentreff-3/
LOCATION:Bürgerzentrum Biblis\, Darmstädter Str. 2\, Biblis\, Hessen\, 68647\, Deutschland
ORGANIZER;CN="Seniorentreff Biblis":MAILTO:ritter.erika@mail.de
END:VEVENT
END:VCALENDAR