BEGIN:VCALENDAR
VERSION:2.0
PRODID:-//Bürgerstiftung Biblis - ECPv6.15.20//NONSGML v1.0//EN
CALSCALE:GREGORIAN
METHOD:PUBLISH
X-WR-CALNAME:Bürgerstiftung Biblis
X-ORIGINAL-URL:https://www.buergerstiftung-biblis.de
X-WR-CALDESC:Veranstaltungen für Bürgerstiftung Biblis
REFRESH-INTERVAL;VALUE=DURATION:PT1H
X-Robots-Tag:noindex
X-PUBLISHED-TTL:PT1H
BEGIN:VTIMEZONE
TZID:Europe/Berlin
BEGIN:DAYLIGHT
TZOFFSETFROM:+0100
TZOFFSETTO:+0200
TZNAME:CEST
DTSTART:20250330T010000
END:DAYLIGHT
BEGIN:STANDARD
TZOFFSETFROM:+0200
TZOFFSETTO:+0100
TZNAME:CET
DTSTART:20251026T010000
END:STANDARD
BEGIN:DAYLIGHT
TZOFFSETFROM:+0100
TZOFFSETTO:+0200
TZNAME:CEST
DTSTART:20260329T010000
END:DAYLIGHT
BEGIN:STANDARD
TZOFFSETFROM:+0200
TZOFFSETTO:+0100
TZNAME:CET
DTSTART:20261025T010000
END:STANDARD
BEGIN:DAYLIGHT
TZOFFSETFROM:+0100
TZOFFSETTO:+0200
TZNAME:CEST
DTSTART:20270328T010000
END:DAYLIGHT
BEGIN:STANDARD
TZOFFSETFROM:+0200
TZOFFSETTO:+0100
TZNAME:CET
DTSTART:20271031T010000
END:STANDARD
END:VTIMEZONE
BEGIN:VEVENT
DTSTART;TZID=Europe/Berlin:20260603T140000
DTEND;TZID=Europe/Berlin:20260603T170000
DTSTAMP:20260422T103424
CREATED:20251117T132637Z
LAST-MODIFIED:20251117T132647Z
UID:6958-1780495200-1780506000@www.buergerstiftung-biblis.de
SUMMARY:Secondhand-Modestübchen\, nachhaltig gut angezogen
DESCRIPTION:Terminreservierung über 01778679796
URL:https://www.buergerstiftung-biblis.de/event/secondhand-modestuebchen-nachhaltig-gut-angezogen-6/
LOCATION:DRK Zentrum\, Kirchstr. 14\, Biblis\, 68647
END:VEVENT
BEGIN:VEVENT
DTSTART;TZID=Europe/Berlin:20260605T150000
DTEND;TZID=Europe/Berlin:20260605T150000
DTSTAMP:20260422T103424
CREATED:20260206T154337Z
LAST-MODIFIED:20260206T154346Z
UID:7461-1780671600-1780671600@www.buergerstiftung-biblis.de
SUMMARY:Stammtisch Vogel- und Naturschutzverein
DESCRIPTION:
URL:https://www.buergerstiftung-biblis.de/event/stammtisch-vogel-und-naturschutzverein-3/
LOCATION:Vereinsgelände
END:VEVENT
BEGIN:VEVENT
DTSTART;TZID=Europe/Berlin:20260607T100000
DTEND;TZID=Europe/Berlin:20260607T160000
DTSTAMP:20260422T103424
CREATED:20260210T134056Z
LAST-MODIFIED:20260218T085827Z
UID:7526-1780826400-1780848000@www.buergerstiftung-biblis.de
SUMMARY:3. Oldtimer - Treffen Biblis
DESCRIPTION:Verpflegung vom Reit- und Fahrverein e.V. Biblis \nKommt vorbei mit euren Schätzen oder einfach als begeisterte Zuschauer\nund genießt den Tag in geselliger Runde– Jeder Klassiker ist willkommen!\n\nhttps://www.facebook.com/events/912640621347181/?
URL:https://www.buergerstiftung-biblis.de/event/3-oldtimer-treffen-biblis/
LOCATION:Vereinsgelände Reitsportanlage Bibliser Pfaffenau\, Josef-Seib-Str. 16 - 18\, Biblis\, 68647
ORGANIZER;CN="Reit-und Fahrverein Biblis e.V.":MAILTO:ruf-biblis@onlinehome.de
END:VEVENT
BEGIN:VEVENT
DTSTART;TZID=Europe/Berlin:20260608T140000
DTEND;TZID=Europe/Berlin:20260608T160000
DTSTAMP:20260422T103424
CREATED:20251117T130134Z
LAST-MODIFIED:20251118T123806Z
UID:6936-1780927200-1780934400@www.buergerstiftung-biblis.de
SUMMARY:Spielenachmittag für Senioren
DESCRIPTION:
URL:https://www.buergerstiftung-biblis.de/event/spielenachmittag-fuer-senioren-6/
LOCATION:DRK Zentrum\, Kirchstr. 14\, Biblis\, 68647
END:VEVENT
BEGIN:VEVENT
DTSTART;TZID=Europe/Berlin:20260610T140000
DTEND;TZID=Europe/Berlin:20260610T160000
DTSTAMP:20260422T103424
CREATED:20251117T140319Z
LAST-MODIFIED:20251117T140328Z
UID:6981-1781100000-1781107200@www.buergerstiftung-biblis.de
SUMMARY:FadenFreunde
DESCRIPTION:in geselliger Runde zusammen erzählen\, stricken\, häkeln: Eigene Handarbeitssachen können mitgebracht werden.
URL:https://www.buergerstiftung-biblis.de/event/fadenfreunde-5/
LOCATION:DRK Zentrum\, Kirchstr. 14\, Biblis\, 68647
END:VEVENT
BEGIN:VEVENT
DTSTART;TZID=Europe/Berlin:20260610T190000
DTEND;TZID=Europe/Berlin:20260610T190000
DTSTAMP:20260422T103424
CREATED:20251118T131358Z
LAST-MODIFIED:20260413T112543Z
UID:7026-1781118000-1781118000@www.buergerstiftung-biblis.de
SUMMARY:Treffen der Technik-und Logistikgruppe
DESCRIPTION:
URL:https://www.buergerstiftung-biblis.de/event/treffen-der-technik-und-logistikgruppe-6/
LOCATION:DRK Zentrum\, Kirchstr. 14\, Biblis\, 68647
END:VEVENT
BEGIN:VEVENT
DTSTART;VALUE=DATE:20260612
DTEND;VALUE=DATE:20260613
DTSTAMP:20260422T103424
CREATED:20260123T123452Z
LAST-MODIFIED:20260123T123502Z
UID:7422-1781222400-1781308799@www.buergerstiftung-biblis.de
SUMMARY:"Unterstützung und Entlastung der Entgiftungsorgane"
DESCRIPTION:Nur für Mitglieder – Achtung Ort und Uhrzeit werden über das Gruppentreffen bekannt gegeben\, findet nicht in Biblis statt.
URL:https://www.buergerstiftung-biblis.de/event/unterstuetzung-und-entlastung-der-entgiftungsorgane/
ORGANIZER;CN="Lily's aus'm Ried":MAILTO:anmeldung@shg-lilys-ausm-ried.de
END:VEVENT
BEGIN:VEVENT
DTSTART;TZID=Europe/Berlin:20260612T190000
DTEND;TZID=Europe/Berlin:20260612T190000
DTSTAMP:20260422T103424
CREATED:20260314T115853Z
LAST-MODIFIED:20260314T115903Z
UID:7612-1781290800-1781290800@www.buergerstiftung-biblis.de
SUMMARY:After Work mit Brass Band Biblis
DESCRIPTION:After Work Open-Air-Party!  \nEintritt frei !Reservierung unter 06245 7284
URL:https://www.buergerstiftung-biblis.de/event/after-work-mit-brass-band-biblis/
LOCATION:Gaststätte Bruchweiher\, Am Bruchweiher 1\, 68647 Biblis\, Tel 06245/7284
END:VEVENT
BEGIN:VEVENT
DTSTART;VALUE=DATE:20260613
DTEND;VALUE=DATE:20260614
DTSTAMP:20260422T103424
CREATED:20251125T140841Z
LAST-MODIFIED:20251125T140904Z
UID:7099-1781308800-1781395199@www.buergerstiftung-biblis.de
SUMMARY:Sommerfest KiGa
DESCRIPTION:
URL:https://www.buergerstiftung-biblis.de/event/sommerfest-kiga/
LOCATION:Evangelische Kindertagesstätte Nordheim\, Fröbelstr. 7\, Biblis-Nordheim\, 68647
END:VEVENT
BEGIN:VEVENT
DTSTART;VALUE=DATE:20260614
DTEND;VALUE=DATE:20260615
DTSTAMP:20260422T103424
CREATED:20251125T141136Z
LAST-MODIFIED:20251125T141147Z
UID:7101-1781395200-1781481599@www.buergerstiftung-biblis.de
SUMMARY:Kuckucksfest
DESCRIPTION:
URL:https://www.buergerstiftung-biblis.de/event/kuckucksfest/
LOCATION:Vereinsgelände
END:VEVENT
BEGIN:VEVENT
DTSTART;TZID=Europe/Berlin:20260617T190000
DTEND;TZID=Europe/Berlin:20260617T190000
DTSTAMP:20260422T103424
CREATED:20251118T124825Z
LAST-MODIFIED:20251118T124832Z
UID:7004-1781722800-1781722800@www.buergerstiftung-biblis.de
SUMMARY:Treffen der Wohlfahrts- und Sozialarbeit
DESCRIPTION:
URL:https://www.buergerstiftung-biblis.de/event/treffen-der-wohlfahrts-und-sozialarbeit-6/
LOCATION:DRK Zentrum\, Kirchstr. 14\, Biblis\, 68647
END:VEVENT
BEGIN:VEVENT
DTSTART;TZID=Europe/Berlin:20260618T170000
DTEND;TZID=Europe/Berlin:20260618T190000
DTSTAMP:20260422T103424
CREATED:20260330T115721Z
LAST-MODIFIED:20260330T115729Z
UID:7663-1781802000-1781809200@www.buergerstiftung-biblis.de
SUMMARY:Erdbeeren und mehr
DESCRIPTION:Bei Erdbeerbowle und Erdbeerkuchen können Sie sich ihren aktuellen Lesestoff für den Sommer aussuchen
URL:https://www.buergerstiftung-biblis.de/event/erdbeeren-und-mehr/
LOCATION:Katholische öffentliche Bücherei\, Darmstädter Str. 4\, Biblis\, 68647
END:VEVENT
BEGIN:VEVENT
DTSTART;VALUE=DATE:20260619
DTEND;VALUE=DATE:20260620
DTSTAMP:20260422T103424
CREATED:20260123T130553Z
LAST-MODIFIED:20260123T130639Z
UID:7440-1781827200-1781913599@www.buergerstiftung-biblis.de
SUMMARY:Stammtisch "Lily's aus'm Ried"
DESCRIPTION:Die Uhrzeiten und den Veranstaltungsort erfährst du auf unserer Homepage oder Instagram/Facebook
URL:https://www.buergerstiftung-biblis.de/event/stammtisch-lilys-aus-ried/
ORGANIZER;CN="Lily's aus'm Ried":MAILTO:anmeldung@shg-lilys-ausm-ried.de
END:VEVENT
BEGIN:VEVENT
DTSTART;VALUE=DATE:20260620
DTEND;VALUE=DATE:20260621
DTSTAMP:20260422T103424
CREATED:20251125T141331Z
LAST-MODIFIED:20251125T141529Z
UID:7103-1781913600-1781999999@www.buergerstiftung-biblis.de
SUMMARY:Konfirmation
DESCRIPTION:
URL:https://www.buergerstiftung-biblis.de/event/konfirmation/
LOCATION:Kirche Nordheim
END:VEVENT
BEGIN:VEVENT
DTSTART;VALUE=DATE:20260621
DTEND;VALUE=DATE:20260622
DTSTAMP:20260422T103424
CREATED:20251125T141715Z
LAST-MODIFIED:20251125T141724Z
UID:7105-1782000000-1782086399@www.buergerstiftung-biblis.de
SUMMARY:Fährhausturm geöffnet
DESCRIPTION:
URL:https://www.buergerstiftung-biblis.de/event/faehrhausturm-geoeffnet-2/
LOCATION:Nordheimer Fährhausturm\, Biblis-Nordheim\, 68647
END:VEVENT
BEGIN:VEVENT
DTSTART;VALUE=DATE:20260621
DTEND;VALUE=DATE:20260622
DTSTAMP:20260422T103424
CREATED:20251125T141901Z
LAST-MODIFIED:20251125T141911Z
UID:7107-1782000000-1782086399@www.buergerstiftung-biblis.de
SUMMARY:Angeln
DESCRIPTION:
URL:https://www.buergerstiftung-biblis.de/event/angeln/
LOCATION:Neudeichloch\, Biblis-Nordheim\, 68647
END:VEVENT
BEGIN:VEVENT
DTSTART;TZID=Europe/Berlin:20260624T140000
DTEND;TZID=Europe/Berlin:20260624T140000
DTSTAMP:20260422T103424
CREATED:20260120T134424Z
LAST-MODIFIED:20260120T134434Z
UID:7400-1782309600-1782309600@www.buergerstiftung-biblis.de
SUMMARY:Seniorentreff
DESCRIPTION:Anmeldung erwünscht: Tel. 7062 (Erika Ritter)
URL:https://www.buergerstiftung-biblis.de/event/seniorentreff-2/
LOCATION:Bürgerzentrum Biblis\, Darmstädter Str. 2\, Biblis\, Hessen\, 68647\, Deutschland
ORGANIZER;CN="Seniorentreff Biblis":MAILTO:ritter.erika@mail.de
END:VEVENT
BEGIN:VEVENT
DTSTART;VALUE=DATE:20260626
DTEND;VALUE=DATE:20260630
DTSTAMP:20260422T103424
CREATED:20260210T134908Z
LAST-MODIFIED:20260210T134958Z
UID:7528-1782432000-1782777599@www.buergerstiftung-biblis.de
SUMMARY:Teilnahme am Bibliser Gurkenfest
DESCRIPTION:Bewirtung in der Hofreite Brandstätter \nAn allen Tagen:\nZander mit Kartoffelsalat/Brot\nHackbraten mit Kartoffelsalat/Brot\nzusätzlich am Montag: Schweinshaxe mit Kartoffelsalat/Brot
URL:https://www.buergerstiftung-biblis.de/event/teilnahme-am-bibliser-gurkenfest/
LOCATION:Biblis\, Darmstädter Str.\, Biblis\, 68647
ORGANIZER;CN="Reit-und Fahrverein Biblis e.V.":MAILTO:ruf-biblis@onlinehome.de
END:VEVENT
END:VCALENDAR