BEGIN:VCALENDAR
VERSION:2.0
PRODID:-//Bürgerstiftung Biblis - ECPv6.15.20//NONSGML v1.0//EN
CALSCALE:GREGORIAN
METHOD:PUBLISH
X-ORIGINAL-URL:https://www.buergerstiftung-biblis.de
X-WR-CALDESC:Veranstaltungen für Bürgerstiftung Biblis
REFRESH-INTERVAL;VALUE=DURATION:PT1H
X-Robots-Tag:noindex
X-PUBLISHED-TTL:PT1H
BEGIN:VTIMEZONE
TZID:Europe/Berlin
BEGIN:DAYLIGHT
TZOFFSETFROM:+0100
TZOFFSETTO:+0200
TZNAME:CEST
DTSTART:20250330T010000
END:DAYLIGHT
BEGIN:STANDARD
TZOFFSETFROM:+0200
TZOFFSETTO:+0100
TZNAME:CET
DTSTART:20251026T010000
END:STANDARD
BEGIN:DAYLIGHT
TZOFFSETFROM:+0100
TZOFFSETTO:+0200
TZNAME:CEST
DTSTART:20260329T010000
END:DAYLIGHT
BEGIN:STANDARD
TZOFFSETFROM:+0200
TZOFFSETTO:+0100
TZNAME:CET
DTSTART:20261025T010000
END:STANDARD
BEGIN:DAYLIGHT
TZOFFSETFROM:+0100
TZOFFSETTO:+0200
TZNAME:CEST
DTSTART:20270328T010000
END:DAYLIGHT
BEGIN:STANDARD
TZOFFSETFROM:+0200
TZOFFSETTO:+0100
TZNAME:CET
DTSTART:20271031T010000
END:STANDARD
END:VTIMEZONE
BEGIN:VEVENT
DTSTART;TZID=Europe/Berlin:20260107T140000
DTEND;TZID=Europe/Berlin:20260107T170000
DTSTAMP:20260422T120550
CREATED:20251117T131556Z
LAST-MODIFIED:20251117T131619Z
UID:6948-1767794400-1767805200@www.buergerstiftung-biblis.de
SUMMARY:Secondhand-Modestübchen\, nachhaltig gut angezogen
DESCRIPTION:Terminreservierung über 01778679796
URL:https://www.buergerstiftung-biblis.de/event/secondhand-modestuebchen-nachhaltig-gut-angezogen/
LOCATION:DRK Zentrum\, Kirchstr. 14\, Biblis\, 68647
END:VEVENT
BEGIN:VEVENT
DTSTART;TZID=Europe/Berlin:20260107T190000
DTEND;TZID=Europe/Berlin:20260107T190000
DTSTAMP:20260422T120550
CREATED:20251118T130233Z
LAST-MODIFIED:20260105T153327Z
UID:7016-1767812400-1767812400@www.buergerstiftung-biblis.de
SUMMARY:Treffen der Technik-und Logistikgruppe
DESCRIPTION:
URL:https://www.buergerstiftung-biblis.de/event/treffen-der-technik-und-logistikgruppe/
LOCATION:DRK Zentrum\, Kirchstr. 14\, Biblis\, 68647
END:VEVENT
BEGIN:VEVENT
DTSTART;TZID=Europe/Berlin:20260109T180000
DTEND;TZID=Europe/Berlin:20260109T180000
DTSTAMP:20260422T120550
CREATED:20251116T123130Z
LAST-MODIFIED:20251116T123139Z
UID:6904-1767981600-1767981600@www.buergerstiftung-biblis.de
SUMMARY:"Willkommen 2026" (Lily's aus'm Ried)
DESCRIPTION:Unter diesem Motto starten wir gemeinsam mit einem Neujahrsempfang im Restaurant Prosecco in Stockstadt. \nBeginn ist um 18:00 Uhr\, Anmeldungen bitte bis 04.01.26 zwecks Platzreservierung
URL:https://www.buergerstiftung-biblis.de/event/willkommen-2026-lilys-ausm-ried/
ORGANIZER;CN="Lily's aus'm Ried":MAILTO:anmeldung@shg-lilys-ausm-ried.de
END:VEVENT
BEGIN:VEVENT
DTSTART;TZID=Europe/Berlin:20260110T180000
DTEND;TZID=Europe/Berlin:20260110T180000
DTSTAMP:20260422T120550
CREATED:20251205T094949Z
LAST-MODIFIED:20251205T095041Z
UID:7215-1768068000-1768068000@www.buergerstiftung-biblis.de
SUMMARY:Whisky-Tasting von The mash tun
DESCRIPTION: – ausgewählte Whiskys – spannende Geschichten & Hintergründe  – gemütliche Atmosphäre  – leckeres Hähnchen als perfekter Genuss-Begleiter\nJetzt Platz sichern und einen unvergesslichen Abend genießen!55\,- pro Person. Bitte Vorkasse per PayPal an doerr@bruchweiher.de Gebt Name und Adresse an dann schicke ich die Tickets per Post. Infos unter 06245 7284.
URL:https://www.buergerstiftung-biblis.de/event/whisky-tasting-von-the-mash-tun/
LOCATION:Gaststätte Bruchweiher\, Am Bruchweiher 1\, 68647 Biblis\, Tel 06245/7284
END:VEVENT
BEGIN:VEVENT
DTSTART;TZID=Europe/Berlin:20260111T140000
DTEND;TZID=Europe/Berlin:20260111T140000
DTSTAMP:20260422T120550
CREATED:20251115T134028Z
LAST-MODIFIED:20251115T134040Z
UID:6892-1768140000-1768140000@www.buergerstiftung-biblis.de
SUMMARY:3. Bibliser Eisstock-Turnier
DESCRIPTION:Im Kampf um den nächsten Platz an der Daube spielen die Teams In k.o.- Runden gegeneinander. Ideal sind Teams von 8 Personen.  \nBitte meldet eure Teams an! Unter 06245 7284 oder doerr@bruchweiher.deDie Veranstaltung findet unter freiem Himmel statt! Die Teilnahme ist kostenlos.
URL:https://www.buergerstiftung-biblis.de/event/3-bibliser-eisstock-turnier/
LOCATION:Gaststätte Bruchweiher\, Am Bruchweiher 1\, 68647 Biblis\, Tel 06245/7284
END:VEVENT
BEGIN:VEVENT
DTSTART;TZID=Europe/Berlin:20260112T140000
DTEND;TZID=Europe/Berlin:20260112T160000
DTSTAMP:20260422T120550
CREATED:20251117T124749Z
LAST-MODIFIED:20260111T142855Z
UID:6926-1768226400-1768233600@www.buergerstiftung-biblis.de
SUMMARY:Spielenachmittag für Senioren - VERSCHOBEN!!!!!!!
DESCRIPTION:wegen Glättegefahr verschoben auf den 19.01.2026
URL:https://www.buergerstiftung-biblis.de/event/spielenachmittag-fuer-senioren/
LOCATION:DRK Zentrum\, Kirchstr. 14\, Biblis\, 68647
END:VEVENT
BEGIN:VEVENT
DTSTART;TZID=Europe/Berlin:20260114T140000
DTEND;TZID=Europe/Berlin:20260114T160000
DTSTAMP:20260422T120550
CREATED:20251117T134129Z
LAST-MODIFIED:20251117T134157Z
UID:6970-1768399200-1768406400@www.buergerstiftung-biblis.de
SUMMARY:FadenFreunde
DESCRIPTION:in geselliger Runde zusammen erzählen\, stricken\, häkeln: Eigene Handarbeitssachen können mitgebracht werden.
URL:https://www.buergerstiftung-biblis.de/event/faden-freunde/
LOCATION:DRK Zentrum\, Kirchstr. 14\, Biblis\, 68647
END:VEVENT
BEGIN:VEVENT
DTSTART;TZID=Europe/Berlin:20260115T190000
DTEND;TZID=Europe/Berlin:20260115T190000
DTSTAMP:20260422T120550
CREATED:20260104T111347Z
LAST-MODIFIED:20260104T111358Z
UID:7324-1768503600-1768503600@www.buergerstiftung-biblis.de
SUMMARY:Barbara Boll lädt ein Wolfgang Sing
DESCRIPTION:
URL:https://www.buergerstiftung-biblis.de/event/barbara-boll-laedt-ein-wolfgang-sing/
LOCATION:Gaststätte Bruchweiher\, Am Bruchweiher 1\, 68647 Biblis\, Tel 06245/7284
END:VEVENT
BEGIN:VEVENT
DTSTART;VALUE=DATE:20260118
DTEND;VALUE=DATE:20260119
DTSTAMP:20260422T120550
CREATED:20251124T085250Z
LAST-MODIFIED:20251124T085301Z
UID:7054-1768694400-1768780799@www.buergerstiftung-biblis.de
SUMMARY:Neujahrsempfang SPD
DESCRIPTION:
URL:https://www.buergerstiftung-biblis.de/event/neujahrsempfang-spd/
LOCATION:Kultur- und Sporthalle Nordheim\, Wormser Str. 12\, Biblis-Nordheim\, 68647
END:VEVENT
BEGIN:VEVENT
DTSTART;TZID=Europe/Berlin:20260119T140000
DTEND;TZID=Europe/Berlin:20260119T160000
DTSTAMP:20260422T120550
CREATED:20260111T143034Z
LAST-MODIFIED:20260111T143042Z
UID:7376-1768831200-1768838400@www.buergerstiftung-biblis.de
SUMMARY:Spielenachmittag für Senioren
DESCRIPTION:Ersatztermin für den 12.01.2026
URL:https://www.buergerstiftung-biblis.de/event/spielenachmittag-fuer-senioren-12/
LOCATION:DRK Zentrum\, Kirchstr. 14\, Biblis\, 68647
END:VEVENT
BEGIN:VEVENT
DTSTART;TZID=Europe/Berlin:20260121T190000
DTEND;TZID=Europe/Berlin:20260121T190000
DTSTAMP:20260422T120550
CREATED:20251118T124010Z
LAST-MODIFIED:20251118T124019Z
UID:6994-1769022000-1769022000@www.buergerstiftung-biblis.de
SUMMARY:Treffen der Wohlfahrts- und Sozialarbeit
DESCRIPTION:
URL:https://www.buergerstiftung-biblis.de/event/treffen-der-wohlfahrts-und-sozialarbeit/
LOCATION:DRK Zentrum\, Kirchstr. 14\, Biblis\, 68647
END:VEVENT
BEGIN:VEVENT
DTSTART;TZID=Europe/Berlin:20260124T170000
DTEND;TZID=Europe/Berlin:20260124T220000
DTSTAMP:20260422T120550
CREATED:20251015T125203Z
LAST-MODIFIED:20251015T125218Z
UID:6786-1769274000-1769292000@www.buergerstiftung-biblis.de
SUMMARY:2. Apres Ski Party
DESCRIPTION:DJ Chris Schmurr heizt euch wieder ein! Wer im Ski-Outfit tanzt\, bekommt ein Getränk gratis. Open Air und Eintritt frei!
URL:https://www.buergerstiftung-biblis.de/event/2-apres-ski-party/
LOCATION:Gaststätte Bruchweiher\, Am Bruchweiher 1\, 68647 Biblis\, Tel 06245/7284
END:VEVENT
BEGIN:VEVENT
DTSTART;TZID=Europe/Berlin:20260128T140000
DTEND;TZID=Europe/Berlin:20260128T140000
DTSTAMP:20260422T120550
CREATED:20260120T133519Z
LAST-MODIFIED:20260120T133528Z
UID:7390-1769608800-1769608800@www.buergerstiftung-biblis.de
SUMMARY:Seniorentreff - Fastnacht
DESCRIPTION:Anmeldung erwünscht: Tel. 7062 (Erika Ritter)
URL:https://www.buergerstiftung-biblis.de/event/seniorentreff-fastnacht/
LOCATION:Bürgerzentrum Biblis\, Darmstädter Str. 2\, Biblis\, Hessen\, 68647\, Deutschland
ORGANIZER;CN="Seniorentreff Biblis":MAILTO:ritter.erika@mail.de
END:VEVENT
BEGIN:VEVENT
DTSTART;TZID=Europe/Berlin:20260131T130000
DTEND;TZID=Europe/Berlin:20260131T160000
DTSTAMP:20260422T120550
CREATED:20260112T080116Z
LAST-MODIFIED:20260112T080133Z
UID:7378-1769864400-1769875200@www.buergerstiftung-biblis.de
SUMMARY:Kinderkleider- und Spielzeugbasar
DESCRIPTION:Bürgerzentrum Biblis\, großer Saal
URL:https://www.buergerstiftung-biblis.de/event/kinderkleider-und-spielzeugbasar/
LOCATION:Bürgerzentrum Biblis\, Darmstädter Str. 2\, Biblis\, Hessen\, 68647\, Deutschland
END:VEVENT
BEGIN:VEVENT
DTSTART;TZID=Europe/Berlin:20260131T200000
DTEND;TZID=Europe/Berlin:20260131T233000
DTSTAMP:20260422T120550
CREATED:20250915T132542Z
LAST-MODIFIED:20251007T131912Z
UID:6726-1769889600-1769902200@www.buergerstiftung-biblis.de
SUMMARY:PHIL – THE GENESIS & PHIL COLLINS TRIBUTE SHOW
DESCRIPTION:40 Jahre die Filminsel Biblis! \n29.- € VVK – Vorverkaufsstellen sind: Hollerbach Biblis\, Radio Preuss Bürstadt\, Bücherkiste Lampertheim\, an der Kinokasse und online in unserem Ticketshop! \nDie Veranstaltung ist unbestuhlt. Lediglich im hinteren Bereich der Riedhalle werden einige Tische und Stühle aufgestellt sein! \nEinlass ab 19 Uhr
URL:https://www.buergerstiftung-biblis.de/event/phil-the-genesis-phil-collins-tribute-show/
LOCATION:Riedhalle\, Lindenstr. 38\, Biblis\, 68647
END:VEVENT
END:VCALENDAR