BEGIN:VCALENDAR
VERSION:2.0
PRODID:-//Bürgerstiftung Biblis - ECPv6.15.20//NONSGML v1.0//EN
CALSCALE:GREGORIAN
METHOD:PUBLISH
X-WR-CALNAME:Bürgerstiftung Biblis
X-ORIGINAL-URL:https://www.buergerstiftung-biblis.de
X-WR-CALDESC:Veranstaltungen für Bürgerstiftung Biblis
REFRESH-INTERVAL;VALUE=DURATION:PT1H
X-Robots-Tag:noindex
X-PUBLISHED-TTL:PT1H
BEGIN:VTIMEZONE
TZID:Europe/Berlin
BEGIN:DAYLIGHT
TZOFFSETFROM:+0100
TZOFFSETTO:+0200
TZNAME:CEST
DTSTART:20250330T010000
END:DAYLIGHT
BEGIN:STANDARD
TZOFFSETFROM:+0200
TZOFFSETTO:+0100
TZNAME:CET
DTSTART:20251026T010000
END:STANDARD
BEGIN:DAYLIGHT
TZOFFSETFROM:+0100
TZOFFSETTO:+0200
TZNAME:CEST
DTSTART:20260329T010000
END:DAYLIGHT
BEGIN:STANDARD
TZOFFSETFROM:+0200
TZOFFSETTO:+0100
TZNAME:CET
DTSTART:20261025T010000
END:STANDARD
BEGIN:DAYLIGHT
TZOFFSETFROM:+0100
TZOFFSETTO:+0200
TZNAME:CEST
DTSTART:20270328T010000
END:DAYLIGHT
BEGIN:STANDARD
TZOFFSETFROM:+0200
TZOFFSETTO:+0100
TZNAME:CET
DTSTART:20271031T010000
END:STANDARD
END:VTIMEZONE
BEGIN:VEVENT
DTSTART;TZID=Europe/Berlin:20260420T150000
DTEND;TZID=Europe/Berlin:20260420T150000
DTSTAMP:20260420T085058
CREATED:20260413T111212Z
LAST-MODIFIED:20260413T111224Z
UID:7708-1776697200-1776697200@www.buergerstiftung-biblis.de
SUMMARY:Der ältere Mensch im Straßenverkehr - Eine Veranstaltung für aktive Senioren
DESCRIPTION:Wie bewege ich mich sicher im Straßenverkehr?\nWas hat sich in den letzten Jahren verändert?\nUnd worauf sollte ich als Fußgänger\, Radfahrer oder Autofahrer besonders achten? \nDer ausgebildete Moderator und Polizeibeamte PHK Ralf Drexelius. kommt nach Biblis und gibt praxisnahe Tipps rund um das sichere Verhalten im Straßenverkehr. Mit seiner langjährigen Erfahrung geht er auf Fragen ein wie: \nWas kann ich selbst für meine Sicherheit tun?\nWelche Regeln sind neu oder besonders wichtig?\nWie sehen aktuelle Verkehrsbedingungen aus? \nIn dieser informativen und unterhaltsamen Veranstaltung werden bei Kaffee und Kuchen gemeinsam Antworten erarbeitet und alltagsnahe Lösungen besprochen.\nEingeladen sind alle Menschen ab 60 Jahren\, die aktiv am Straßenverkehr teilnehmen – zu Fuß\, mit dem Rad oder mit dem Auto.\nDas Team der Wohlfahrts-und Sozialarbeit des DRK OV Biblis und Polizeihauptkommissar Drexelius freuen sich auf Ihren Besuch.
URL:https://www.buergerstiftung-biblis.de/event/der-aeltere-mensch-im-strassenverkehr-eine-veranstaltung-fuer-aktive-senioren/
LOCATION:DRK Zentrum\, Kirchstr. 14\, Biblis\, 68647
END:VEVENT
END:VCALENDAR